BEGIN:VCALENDAR
VERSION:2.0
PRODID:-//Guernsey Finance//Guernsey Finance Events//EN
BEGIN:VEVENT
SUMMARY:STEP Asia Conference
DESCRIPTION:https://www.guernseyfinance.com/events/2026/step-asia-conference/
DTSTART:20261020T090000
DTEND:20261021T170000
LOCATION:Marina Bay Sands
 Sands Expo & Convention Centre
 10 Bayfront Ave
 Singapore
 018956
 Singapore
END:VEVENT
END:VCALENDAR
